BEGIN:VCALENDAR
VERSION:2.0
PRODID:-//Squarespace Inc/Squarespace 6//v6//EN
BEGIN:VEVENT
UID:5c6b47a8a4222f33782f7243@squarespace.com
DTSTAMP:20190221T065318Z
DTSTART:20190225T233000Z
DTEND:20190226T003000Z
SUMMARY:Simply Christianity
GEO:-27.613933;152.758731
LOCATION:Ann Street Presbyterian Church\, 143\, Brisbane
END:VEVENT
END:VCALENDAR
