BEGIN:VCALENDAR
VERSION:2.0
PRODID:-//Squarespace Inc/Squarespace 6//v6//EN
BEGIN:VEVENT
UID:5ba2eb38f950b7e549883042@squarespace.com
DTSTAMP:20180920T004735Z
DTSTART:20181013T130000Z
DTEND:20181013T210000Z
SUMMARY:BRISBANE OPEN HOUSE '18
END:VEVENT
END:VCALENDAR
