BEGIN:VCALENDAR
VERSION:2.0
PRODID:-//Squarespace Inc/Squarespace 6//v6//EN
BEGIN:VEVENT
UID:5b7123104ae2373e2b0bb641@squarespace.com
DTSTAMP:20180828T035535Z
DTSTART:20180901T230000Z
DTEND:20180902T000000Z
SUMMARY:THE MARK DRAMA
GEO:-27.46781;153.02439
LOCATION:Ann Street Presbyterian church\, 143 Ann Street\, Brisbane City\, 
 QLD\, 4000\, Australia
END:VEVENT
END:VCALENDAR
