BEGIN:VCALENDAR
VERSION:2.0
PRODID:-//Squarespace Inc/Squarespace 6//v6//EN
BEGIN:VEVENT
UID:5c6e2641e2c4839f69862a7f@squarespace.com
DTSTAMP:20190221T042551Z
DTSTART:20190308T224500Z
DTEND:20190309T171500Z
SUMMARY:LIFE @ WORK Conference
GEO:-27.613933;152.758731
LOCATION:Ann Street Presbyterian Church\, 143\, Brisbane
END:VEVENT
END:VCALENDAR
