BEGIN:VCALENDAR
VERSION:2.0
PRODID:-//Squarespace Inc/Squarespace 6//v6//EN
BEGIN:VEVENT
UID:5aa7642071c10b9167007852@squarespace.com
DTSTAMP:20180313T054349Z
DTSTART:20180330T130000Z
DTEND:20180401T223000Z
SUMMARY:EASTER AT ANN STREET
END:VEVENT
END:VCALENDAR
